Package: TSAR Version: 1.5.0 Command: /Library/Frameworks/R.framework/Resources/bin/R CMD build --keep-empty-dirs --no-resave-data TSAR StartedAt: 2025-02-16 18:30:13 -0500 (Sun, 16 Feb 2025) EndedAt: 2025-02-16 18:32:21 -0500 (Sun, 16 Feb 2025) EllapsedTime: 128.1 seconds RetCode: 0 Status: OK PackageFile: TSAR_1.5.0.tar.gz PackageFileSize: 4.045 MiB