Package: TSAR Version: 1.5.0 Command: /home/biocbuild/R/R/bin/R CMD check --install=check:TSAR.install-out.txt --library=/home/biocbuild/R/R/site-library --no-vignettes --timings TSAR_1.5.0.tar.gz StartedAt: 2025-01-27 13:42:36 -0000 (Mon, 27 Jan 2025) EndedAt: 2025-01-27 13:46:04 -0000 (Mon, 27 Jan 2025) EllapsedTime: 208.5 seconds RetCode: 0 Status: OK CheckDir: TSAR.Rcheck Warnings: 0