Package: TSAR Version: 1.5.0 Command: /home/biocbuild/R/R/bin/R CMD build --keep-empty-dirs --no-resave-data TSAR StartedAt: 2025-01-28 03:02:48 -0000 (Tue, 28 Jan 2025) EndedAt: 2025-01-28 03:06:00 -0000 (Tue, 28 Jan 2025) EllapsedTime: 192.1 seconds RetCode: 0 Status: OK PackageFile: TSAR_1.5.0.tar.gz PackageFileSize: 3.64 MiB