Package: TSAR Version: 1.5.0 Command: /Library/Frameworks/R.framework/Resources/bin/R CMD check --install=check:TSAR.install-out.txt --library=/Library/Frameworks/R.framework/Resources/library --no-vignettes --timings TSAR_1.5.0.tar.gz StartedAt: 2025-01-31 21:53:27 -0500 (Fri, 31 Jan 2025) EndedAt: 2025-01-31 21:54:24 -0500 (Fri, 31 Jan 2025) EllapsedTime: 56.8 seconds RetCode: 0 Status: OK CheckDir: TSAR.Rcheck Warnings: 0