Package: TSAR Version: 1.7.0 Maintainer: Xinlin Gao MaintainerEmail: candygao2015 at outlook.com git_url: https://git.bioconductor.org/packages/TSAR git_branch: devel git_last_commit: e202d4e git_last_commit_date: 2025-04-15 13:21:36 -0400 (Tue, 15 Apr 2025)