Package: TRONCO Version: 2.41.1 Command: /home/biocbuild/R/R/bin/R CMD build --keep-empty-dirs --no-resave-data TRONCO StartedAt: 2025-10-03 03:59:26 -0000 (Fri, 03 Oct 2025) EndedAt: 2025-10-03 04:00:58 -0000 (Fri, 03 Oct 2025) EllapsedTime: 92.0 seconds RetCode: 0 Status: OK PackageFile: TRONCO_2.41.1.tar.gz PackageFileSize: 3.374 MiB