Package: TRONCO Version: 2.39.0 Command: /home/biocbuild/bbs-3.21-bioc/R/bin/R CMD build --keep-empty-dirs --no-resave-data TRONCO StartedAt: 2025-02-14 19:26:59 -0500 (Fri, 14 Feb 2025) EndedAt: 2025-02-14 19:27:58 -0500 (Fri, 14 Feb 2025) EllapsedTime: 59.1 seconds RetCode: 0 Status: OK PackageFile: TRONCO_2.39.0.tar.gz PackageFileSize: 4.245 MiB