Package: TRONCO Version: 2.41.0 Command: /Library/Frameworks/R.framework/Resources/bin/R CMD INSTALL TRONCO StartedAt: 2025-05-27 15:46:25 -0400 (Tue, 27 May 2025) EndedAt: 2025-05-27 15:46:43 -0400 (Tue, 27 May 2025) EllapsedTime: 18.2 seconds RetCode: 0 Status: OK