Package: TRONCO Version: 2.39.0 Command: /Library/Frameworks/R.framework/Resources/bin/R CMD check --install=check:TRONCO.install-out.txt --library=/Library/Frameworks/R.framework/Resources/library --no-vignettes --timings TRONCO_2.39.0.tar.gz StartedAt: 2025-01-10 21:56:53 -0500 (Fri, 10 Jan 2025) EndedAt: 2025-01-10 21:58:00 -0500 (Fri, 10 Jan 2025) EllapsedTime: 66.9 seconds RetCode: 0 Status: OK CheckDir: TRONCO.Rcheck Warnings: 0