Package: TRONCO Version: 2.41.0 Maintainer: Luca De Sano MaintainerEmail: luca.desano at gmail.com git_url: https://git.bioconductor.org/packages/TRONCO git_branch: devel git_last_commit: aec4d53 git_last_commit_date: 2025-04-15 10:37:18 -0400 (Tue, 15 Apr 2025)