Package: TRESS Version: 1.15.0 Command: /Library/Frameworks/R.framework/Resources/bin/R CMD INSTALL TRESS StartedAt: 2025-10-27 15:32:46 -0400 (Mon, 27 Oct 2025) EndedAt: 2025-10-27 15:33:32 -0400 (Mon, 27 Oct 2025) EllapsedTime: 46.4 seconds RetCode: 0 Status: OK