Package: TRESS Version: 1.15.0 Command: rm -rf TRESS.buildbin-libdir && mkdir TRESS.buildbin-libdir && /Users/biocbuild/BBS/utils/build-universal.sh TRESS_1.15.0.tar.gz /Library/Frameworks/R.framework/Resources/bin/R TRESS.buildbin-libdir StartedAt: 2025-10-28 02:41:18 -0400 (Tue, 28 Oct 2025) EndedAt: 2025-10-28 02:42:08 -0400 (Tue, 28 Oct 2025) EllapsedTime: 49.8 seconds RetCode: 0 Status: OK PackageFile: TRESS_1.15.0.tgz PackageFileSize: 686 KiB