Package: TREG Version: 1.11.0 Command: E:\biocbuild\bbs-3.21-bioc\R\bin\R.exe CMD check --no-multiarch --install=check:TREG.install-out.txt --library=E:\biocbuild\bbs-3.21-bioc\R\library --no-vignettes --timings TREG_1.11.0.tar.gz StartedAt: 2025-02-05 06:44:26 -0500 (Wed, 05 Feb 2025) EndedAt: 2025-02-05 06:47:25 -0500 (Wed, 05 Feb 2025) EllapsedTime: 179.2 seconds RetCode: 0 Status: OK CheckDir: TREG.Rcheck Warnings: 0