Package: TREG Version: 1.11.0 Command: chmod a+r TREG -R && E:\biocbuild\bbs-3.21-bioc\R\bin\R.exe CMD build --keep-empty-dirs --no-resave-data TREG StartedAt: 2025-02-04 22:13:05 -0500 (Tue, 04 Feb 2025) EndedAt: 2025-02-04 22:15:30 -0500 (Tue, 04 Feb 2025) EllapsedTime: 145.3 seconds RetCode: 0 Status: OK PackageFile: TREG_1.11.0.tar.gz PackageFileSize: 1.665 MiB