Package: TREG Version: 1.11.0 Command: rm -rf TREG.buildbin-libdir && mkdir TREG.buildbin-libdir && E:\biocbuild\bbs-3.21-bioc\R\bin\R.exe CMD INSTALL --build --library=TREG.buildbin-libdir TREG_1.11.0.tar.gz StartedAt: 2025-02-05 09:07:44 -0500 (Wed, 05 Feb 2025) EndedAt: 2025-02-05 09:08:09 -0500 (Wed, 05 Feb 2025) EllapsedTime: 24.7 seconds RetCode: 0 Status: OK PackageFile: TREG_1.11.0.zip PackageFileSize: 1.685 MiB