Package: TREG Version: 1.11.0 Command: /home/biocbuild/bbs-3.21-bioc/R/bin/R CMD check --install=check:TREG.install-out.txt --library=/home/biocbuild/bbs-3.21-bioc/R/site-library --timings TREG_1.11.0.tar.gz StartedAt: 2025-02-05 03:38:48 -0500 (Wed, 05 Feb 2025) EndedAt: 2025-02-05 03:43:35 -0500 (Wed, 05 Feb 2025) EllapsedTime: 286.4 seconds RetCode: 0 Status: OK CheckDir: TREG.Rcheck Warnings: 0