Package: TREG Version: 1.11.0 Command: /home/biocbuild/bbs-3.21-bioc/R/bin/R CMD build --keep-empty-dirs --no-resave-data TREG StartedAt: 2025-02-04 19:37:13 -0500 (Tue, 04 Feb 2025) EndedAt: 2025-02-04 19:38:55 -0500 (Tue, 04 Feb 2025) EllapsedTime: 102.2 seconds RetCode: 0 Status: OK PackageFile: TREG_1.11.0.tar.gz PackageFileSize: 2.401 MiB