Package: TREG Version: 1.11.0 Command: /Library/Frameworks/R.framework/Resources/bin/R CMD INSTALL TREG StartedAt: 2025-02-05 15:10:19 -0500 (Wed, 05 Feb 2025) EndedAt: 2025-02-05 15:10:50 -0500 (Wed, 05 Feb 2025) EllapsedTime: 30.8 seconds RetCode: 0 Status: OK