Package: TREG Version: 1.11.0 Command: /home/biocbuild/R/R/bin/R CMD build --keep-empty-dirs --no-resave-data TREG StartedAt: 2025-01-28 03:01:04 -0000 (Tue, 28 Jan 2025) EndedAt: 2025-01-28 03:07:10 -0000 (Tue, 28 Jan 2025) EllapsedTime: 366.2 seconds RetCode: 0 Status: OK PackageFile: TREG_1.11.0.tar.gz PackageFileSize: 1.683 MiB