Package: TPP2D Version: 1.23.0 Command: /home/biocbuild/R/R/bin/R CMD build --keep-empty-dirs --no-resave-data TPP2D StartedAt: 2025-01-28 02:58:34 -0000 (Tue, 28 Jan 2025) EndedAt: 2025-01-28 02:59:22 -0000 (Tue, 28 Jan 2025) EllapsedTime: 48.0 seconds RetCode: 0 Status: OK PackageFile: TPP2D_1.23.0.tar.gz PackageFileSize: 2.166 MiB