Package: TPP2D Version: 1.25.0 Maintainer: Nils Kurzawa MaintainerEmail: nilskurzawa at gmail.com git_url: https://git.bioconductor.org/packages/TPP2D git_branch: devel git_last_commit: 3734392 git_last_commit_date: 2025-04-15 11:46:18 -0400 (Tue, 15 Apr 2025)