Package: TPP Version: 3.37.0 Command: /home/biocbuild/bbs-3.22-bioc/R/bin/R CMD INSTALL TPP StartedAt: 2025-10-03 15:12:13 -0400 (Fri, 03 Oct 2025) EndedAt: 2025-10-03 15:12:27 -0400 (Fri, 03 Oct 2025) EllapsedTime: 13.6 seconds RetCode: 0 Status: OK