Package: TPP Version: 3.37.0 Command: /home/biocbuild/bbs-3.22-bioc/R/bin/R CMD build --keep-empty-dirs --no-resave-data --md5 TPP StartedAt: 2025-10-03 20:31:27 -0400 (Fri, 03 Oct 2025) EndedAt: 2025-10-03 20:33:09 -0400 (Fri, 03 Oct 2025) EllapsedTime: 102.1 seconds RetCode: 0 Status: OK PackageFile: TPP_3.37.0.tar.gz PackageFileSize: 8.444 MiB