Package: TOP Version: 1.9.0 Command: /Library/Frameworks/R.framework/Resources/bin/R CMD INSTALL TOP StartedAt: 2025-05-22 15:25:52 -0400 (Thu, 22 May 2025) EndedAt: 2025-05-22 15:26:37 -0400 (Thu, 22 May 2025) EllapsedTime: 45.1 seconds RetCode: 0 Status: OK