Package: TOP Version: 1.9.0 Command: rm -rf TOP.buildbin-libdir && mkdir TOP.buildbin-libdir && /Users/biocbuild/BBS/utils/build-universal.sh TOP_1.9.0.tar.gz /Library/Frameworks/R.framework/Resources/bin/R TOP.buildbin-libdir StartedAt: 2025-05-23 00:58:10 -0400 (Fri, 23 May 2025) EndedAt: 2025-05-23 00:58:58 -0400 (Fri, 23 May 2025) EllapsedTime: 47.4 seconds RetCode: 0 Status: OK PackageFile: TOP_1.9.0.tgz PackageFileSize: 538.3 KiB