Package: TOAST Version: 1.23.0 Command: rm -rf TOAST.buildbin-libdir && mkdir TOAST.buildbin-libdir && F:\biocbuild\bbs-3.22-bioc\R\bin\R.exe CMD INSTALL --build --library=TOAST.buildbin-libdir TOAST_1.23.0.tar.gz StartedAt: 2025-08-14 10:08:03 -0400 (Thu, 14 Aug 2025) EndedAt: 2025-08-14 10:08:42 -0400 (Thu, 14 Aug 2025) EllapsedTime: 39.4 seconds RetCode: 0 Status: OK PackageFile: TOAST_1.23.0.zip PackageFileSize: 3.363 MiB