Package: TOAST Version: 1.23.0 Command: /home/biocbuild/bbs-3.22-bioc/R/bin/R CMD INSTALL TOAST StartedAt: 2025-09-30 15:18:06 -0400 (Tue, 30 Sep 2025) EndedAt: 2025-09-30 15:18:32 -0400 (Tue, 30 Sep 2025) EllapsedTime: 26.1 seconds RetCode: 0 Status: OK