Package: TMixClust Version: 1.31.0 Command: /home/biocbuild/bbs-3.22-bioc/R/bin/R CMD INSTALL TMixClust StartedAt: 2025-10-14 15:14:16 -0400 (Tue, 14 Oct 2025) EndedAt: 2025-10-14 15:14:22 -0400 (Tue, 14 Oct 2025) EllapsedTime: 6.3 seconds RetCode: 0 Status: OK