Package: TMSig Version: 1.3.0 Command: chmod a+r TMSig -R && F:\biocbuild\bbs-3.22-bioc\R\bin\R.exe CMD build --keep-empty-dirs --no-resave-data TMSig StartedAt: 2025-08-14 23:47:24 -0400 (Thu, 14 Aug 2025) EndedAt: 2025-08-14 23:48:34 -0400 (Thu, 14 Aug 2025) EllapsedTime: 70.0 seconds RetCode: 0 Status: OK PackageFile: TMSig_1.3.0.tar.gz PackageFileSize: 2.588 MiB