Package: TFutils Version: 1.29.1 Command: rm -rf TFutils.buildbin-libdir && mkdir TFutils.buildbin-libdir && F:\biocbuild\bbs-3.22-bioc\R\bin\R.exe CMD INSTALL --build --library=TFutils.buildbin-libdir TFutils_1.29.1.tar.gz StartedAt: 2025-08-15 11:29:30 -0400 (Fri, 15 Aug 2025) EndedAt: 2025-08-15 11:30:44 -0400 (Fri, 15 Aug 2025) EllapsedTime: 73.3 seconds RetCode: 0 Status: OK PackageFile: TFutils_1.29.1.zip PackageFileSize: 6.186 MiB