Package: TFHAZ Version: 1.31.0 Command: /home/biocbuild/R/R/bin/R CMD build --keep-empty-dirs --no-resave-data TFHAZ StartedAt: 2025-10-03 03:48:22 -0000 (Fri, 03 Oct 2025) EndedAt: 2025-10-03 03:50:00 -0000 (Fri, 03 Oct 2025) EllapsedTime: 98.0 seconds RetCode: 0 Status: OK PackageFile: TFHAZ_1.31.0.tar.gz PackageFileSize: 2.481 MiB