Package: TFHAZ Version: 1.31.0 Command: F:\biocbuild\bbs-3.22-bioc\R\bin\R.exe CMD INSTALL TFHAZ StartedAt: 2025-08-14 16:40:07 -0400 (Thu, 14 Aug 2025) EndedAt: 2025-08-14 16:40:58 -0400 (Thu, 14 Aug 2025) EllapsedTime: 51.0 seconds RetCode: 0 Status: OK