Package: TFHAZ Version: 1.31.0 Command: chmod a+r TFHAZ -R && F:\biocbuild\bbs-3.22-bioc\R\bin\R.exe CMD build --keep-empty-dirs --no-resave-data TFHAZ StartedAt: 2025-08-14 23:44:41 -0400 (Thu, 14 Aug 2025) EndedAt: 2025-08-14 23:46:14 -0400 (Thu, 14 Aug 2025) EllapsedTime: 92.6 seconds RetCode: 0 Status: OK PackageFile: TFHAZ_1.31.0.tar.gz PackageFileSize: 2.399 MiB