Package: TFHAZ Version: 1.29.0 Command: chmod a+r TFHAZ -R && E:\biocbuild\bbs-3.21-bioc\R\bin\R.exe CMD build --keep-empty-dirs --no-resave-data TFHAZ StartedAt: 2025-02-03 22:16:47 -0500 (Mon, 03 Feb 2025) EndedAt: 2025-02-03 22:18:19 -0500 (Mon, 03 Feb 2025) EllapsedTime: 92.4 seconds RetCode: 0 Status: OK PackageFile: TFHAZ_1.29.0.tar.gz PackageFileSize: 2.398 MiB