Package: TFHAZ Version: 1.29.0 Command: /Library/Frameworks/R.framework/Resources/bin/R CMD build --keep-empty-dirs --no-resave-data TFHAZ StartedAt: 2025-02-03 18:24:33 -0500 (Mon, 03 Feb 2025) EndedAt: 2025-02-03 18:25:00 -0500 (Mon, 03 Feb 2025) EllapsedTime: 27.3 seconds RetCode: 0 Status: OK PackageFile: TFHAZ_1.29.0.tar.gz PackageFileSize: 2.516 MiB