Package: TFHAZ Version: 1.29.0 Command: rm -rf TFHAZ.buildbin-libdir && mkdir TFHAZ.buildbin-libdir && /Users/biocbuild/BBS/utils/build-universal.sh TFHAZ_1.29.0.tar.gz /Library/Frameworks/R.framework/Resources/bin/R TFHAZ.buildbin-libdir StartedAt: 2025-02-03 23:09:03 -0500 (Mon, 03 Feb 2025) EndedAt: 2025-02-03 23:09:21 -0500 (Mon, 03 Feb 2025) EllapsedTime: 18.4 seconds RetCode: 0 Status: OK PackageFile: TFHAZ_1.29.0.tgz PackageFileSize: 3.291 MiB