Package: TFEA.ChIP Version: 1.27.0 Command: chmod a+r TFEA.ChIP -R && E:\biocbuild\bbs-3.21-bioc\R\bin\R.exe CMD build --keep-empty-dirs --no-resave-data TFEA.ChIP StartedAt: 2025-02-05 22:10:56 -0500 (Wed, 05 Feb 2025) EndedAt: 2025-02-05 22:12:46 -0500 (Wed, 05 Feb 2025) EllapsedTime: 109.2 seconds RetCode: 0 Status: OK PackageFile: TFEA.ChIP_1.27.0.tar.gz PackageFileSize: 5.245 MiB