Package: TFEA.ChIP Version: 1.27.0 Command: rm -rf TFEA.ChIP.buildbin-libdir && mkdir TFEA.ChIP.buildbin-libdir && E:\biocbuild\bbs-3.21-bioc\R\bin\R.exe CMD INSTALL --build --library=TFEA.ChIP.buildbin-libdir TFEA.ChIP_1.27.0.tar.gz StartedAt: 2025-02-06 09:12:22 -0500 (Thu, 06 Feb 2025) EndedAt: 2025-02-06 09:13:11 -0500 (Thu, 06 Feb 2025) EllapsedTime: 49.5 seconds RetCode: 0 Status: OK PackageFile: TFEA.ChIP_1.27.0.zip PackageFileSize: 5.211 MiB