Package: TFEA.ChIP Version: 1.29.3 Command: /home/biocbuild/bbs-3.22-bioc/R/bin/R CMD INSTALL TFEA.ChIP StartedAt: 2025-10-02 15:40:57 -0400 (Thu, 02 Oct 2025) EndedAt: 2025-10-02 15:42:04 -0400 (Thu, 02 Oct 2025) EllapsedTime: 67.2 seconds RetCode: 0 Status: OK