Package: TFEA.ChIP Version: 1.29.3 Command: /home/biocbuild/bbs-3.22-bioc/R/bin/R CMD build --keep-empty-dirs --no-resave-data --md5 TFEA.ChIP StartedAt: 2025-10-02 20:28:59 -0400 (Thu, 02 Oct 2025) EndedAt: 2025-10-02 20:30:36 -0400 (Thu, 02 Oct 2025) EllapsedTime: 96.1 seconds RetCode: 0 Status: OK PackageFile: TFEA.ChIP_1.29.3.tar.gz PackageFileSize: 6.775 MiB