Package: TFEA.ChIP Version: 1.27.0 Command: /home/biocbuild/bbs-3.21-bioc/R/bin/R CMD INSTALL TFEA.ChIP StartedAt: 2025-02-04 15:37:35 -0500 (Tue, 04 Feb 2025) EndedAt: 2025-02-04 15:38:15 -0500 (Tue, 04 Feb 2025) EllapsedTime: 40.0 seconds RetCode: 0 Status: OK