Package: TFEA.ChIP Version: 1.27.0 Command: /home/biocbuild/bbs-3.21-bioc/R/bin/R CMD check --install=check:TFEA.ChIP.install-out.txt --library=/home/biocbuild/bbs-3.21-bioc/R/site-library --timings TFEA.ChIP_1.27.0.tar.gz StartedAt: 2025-02-05 03:26:45 -0500 (Wed, 05 Feb 2025) EndedAt: 2025-02-05 03:33:50 -0500 (Wed, 05 Feb 2025) EllapsedTime: 424.6 seconds RetCode: 0 Status: OK CheckDir: TFEA.ChIP.Rcheck Warnings: 0