Package: TFEA.ChIP Version: 1.27.0 Command: /home/biocbuild/bbs-3.21-bioc/R/bin/R CMD build --keep-empty-dirs --no-resave-data TFEA.ChIP StartedAt: 2025-02-04 19:32:41 -0500 (Tue, 04 Feb 2025) EndedAt: 2025-02-04 19:34:05 -0500 (Tue, 04 Feb 2025) EllapsedTime: 84.1 seconds RetCode: 0 Status: OK PackageFile: TFEA.ChIP_1.27.0.tar.gz PackageFileSize: 5.255 MiB