Package: TFEA.ChIP Version: 1.27.0 Command: /Library/Frameworks/R.framework/Resources/bin/R CMD INSTALL TFEA.ChIP StartedAt: 2025-02-17 15:21:56 -0500 (Mon, 17 Feb 2025) EndedAt: 2025-02-17 15:22:48 -0500 (Mon, 17 Feb 2025) EllapsedTime: 51.7 seconds RetCode: 0 Status: OK