Package: TFEA.ChIP Version: 1.29.0 Command: /Library/Frameworks/R.framework/Resources/bin/R CMD check --install=check:TFEA.ChIP.install-out.txt --library=/Library/Frameworks/R.framework/Resources/library --no-vignettes --timings TFEA.ChIP_1.29.0.tar.gz StartedAt: 2025-04-27 23:53:22 -0400 (Sun, 27 Apr 2025) EndedAt: 2025-04-28 00:00:33 -0400 (Mon, 28 Apr 2025) EllapsedTime: 430.6 seconds RetCode: 0 Status: OK CheckDir: TFEA.ChIP.Rcheck Warnings: 0