Package: TFEA.ChIP Version: 1.29.0 Command: /Library/Frameworks/R.framework/Resources/bin/R CMD build --keep-empty-dirs --no-resave-data TFEA.ChIP StartedAt: 2025-04-27 18:37:20 -0400 (Sun, 27 Apr 2025) EndedAt: 2025-04-27 18:39:02 -0400 (Sun, 27 Apr 2025) EllapsedTime: 102.4 seconds RetCode: 0 Status: OK PackageFile: TFEA.ChIP_1.29.0.tar.gz PackageFileSize: 5.26 MiB