Package: TFEA.ChIP Version: 1.29.0 Command: rm -rf TFEA.ChIP.buildbin-libdir && mkdir TFEA.ChIP.buildbin-libdir && /Users/biocbuild/BBS/utils/build-universal.sh TFEA.ChIP_1.29.0.tar.gz /Library/Frameworks/R.framework/Resources/bin/R TFEA.ChIP.buildbin-libdir StartedAt: 2025-04-28 01:03:21 -0400 (Mon, 28 Apr 2025) EndedAt: 2025-04-28 01:04:17 -0400 (Mon, 28 Apr 2025) EllapsedTime: 56.1 seconds RetCode: 0 Status: OK PackageFile: TFEA.ChIP_1.29.0.tgz PackageFileSize: 5.216 MiB