Package: TFEA.ChIP Version: 1.29.0 Command: /Library/Frameworks/R.framework/Resources/bin/R CMD INSTALL TFEA.ChIP StartedAt: 2025-04-28 15:20:43 -0400 (Mon, 28 Apr 2025) EndedAt: 2025-04-28 15:21:00 -0400 (Mon, 28 Apr 2025) EllapsedTime: 16.9 seconds RetCode: 0 Status: OK