Package: TFEA.ChIP Version: 1.27.0 Command: /Library/Frameworks/R.framework/Resources/bin/R CMD build --keep-empty-dirs --no-resave-data TFEA.ChIP StartedAt: 2025-02-05 17:50:42 -0500 (Wed, 05 Feb 2025) EndedAt: 2025-02-05 17:51:20 -0500 (Wed, 05 Feb 2025) EllapsedTime: 37.4 seconds RetCode: 0 Status: OK PackageFile: TFEA.ChIP_1.27.0.tar.gz PackageFileSize: 5.26 MiB