Package: TFBSTools Version: 1.45.1 Command: E:\biocbuild\bbs-3.21-bioc\R\bin\R.exe CMD INSTALL TFBSTools StartedAt: 2025-02-05 16:10:00 -0500 (Wed, 05 Feb 2025) EndedAt: 2025-02-05 16:12:00 -0500 (Wed, 05 Feb 2025) EllapsedTime: 119.5 seconds RetCode: 0 Status: OK